BEGIN:VCALENDAR
VERSION:2.0
PRODID:-//hacksw/handcal//NONSGML v1.0//EN
BEGIN:VEVENT
SUMMARY:2K challenge
UID:1b5ed963-a38a-4770-8d21-bf63eae9c48d
DTSTART:20260604T163000Z
DTEND:20260604T180000Z
LOCATION:Stade Colette Besson 22 Boulevard Jules Verne 44130 Blain
CATEGORIES:Sportif
STATUS:
DESCRIPTION:<p><span style="font-size:11pt;"><span
 style="font-family:Arial, sans-serif;"><span
 style="color:#000000;"><span style="font-weight:400;"><span
 style="font-style:normal;"><span
 style="text-decoration:none;">🏃‍♀️🔥
 </span></span></span></span></span></span><span
 style="font-size:11pt;"><span style="font-family:Arial,
 sans-serif;"><span style="color:#000000;"><span
 style="font-weight:700;"><span style="font-style:normal;"><span
 style="text-decoration:none;">2K Challenge – Viens tester
 l’athletisme a l’ENL44
 !</span></span></span></span></span></span><span
 style="font-size:11pt;"><span style="font-family:Arial,
 sans-serif;"><span style="color:#000000;"><span
 style="font-weight:400;"><span style="font-style:normal;"><span
 style="text-decoration:none;">
 🔥🏃‍♂️</span></span></span></span></span></span></p>
 
 <p><span
 style="font-size:11pt;"><span style="font-family:Arial,
 sans-serif;"><span style="color:#000000;"><span
 style="font-weight:400;"><span style="font-style:normal;"><span
 style="text-decoration:none;">L’ENL44 t’ouvre ses portes
 </span></span></span></span></span></span><span
 style="font-size:11pt;"><span style="font-family:Arial,
 sans-serif;"><span style="color:#000000;"><span
 style="font-weight:700;"><span style="font-style:normal;"><span
 style="text-decoration:none;">jeudi 04 juin de 18h30 a
 20h</span></span></span></span></span></span><span
 style="font-size:11pt;"><span style="font-family:Arial,
 sans-serif;"><span style="color:#000000;"><span
 style="font-weight:400;"><span style="font-style:normal;"><span
 style="text-decoration:none;"> pour un moment sportif, convivial et
 motivant
 💪✨</span></span></span></span></span></span></p>
 
 <p><span
 style="font-size:11pt;"><span style="font-family:Arial,
 sans-serif;"><span style="color:#000000;"><span
 style="font-weight:400;"><span style="font-style:normal;"><span
 style="text-decoration:none;">📋
 </span></span></span></span></span></span><span
 style="font-size:11pt;"><span style="font-family:Arial,
 sans-serif;"><span style="color:#000000;"><span
 style="font-weight:700;"><span style="font-style:normal;"><span
 style="text-decoration:none;">Au programme
 :</span></span></span></span></span></span><br>
 <span
 style="font-size:11pt;"><span style="font-family:Arial,
 sans-serif;"><span style="color:#000000;"><span
 style="font-weight:400;"><span style="font-style:normal;"><span
 style="text-decoration:none;">🔸 Echauffement
 collectif</span></span></span></span></span></span><br>
 <span
 style="font-size:11pt;"><span style="font-family:Arial,
 sans-serif;"><span style="color:#000000;"><span
 style="font-weight:400;"><span style="font-style:normal;"><span
 style="text-decoration:none;">🔸 Test chronometre sur
 </span></span></span></span></span></span><span
 style="font-size:11pt;"><span style="font-family:Arial,
 sans-serif;"><span style="color:#000000;"><span
 style="font-weight:700;"><span style="font-style:normal;"><span
 style="text-decoration:none;">2
 km</span></span></span></span></span></span><br>
 <span
 style="font-size:11pt;"><span style="font-family:Arial,
 sans-serif;"><span style="color:#000000;"><span
 style="font-weight:400;"><span style="font-style:normal;"><span
 style="text-decoration:none;">🔸 Challenge personnel et depassement
 de soi</span></span></span></span></span></span></p>
 
 <p><span
 style="font-size:11pt;"><span style="font-family:Arial,
 sans-serif;"><span style="color:#000000;"><span
 style="font-weight:400;"><span style="font-style:normal;"><span
 style="text-decoration:none;">🚀 Que tu sois coureur regulier,
 curieux de connaitre ton niveau, ou simplement tente par l’ambiance
 d’un club, le </span></span></span></span></span></span><span
 style="font-size:11pt;"><span style="font-family:Arial,
 sans-serif;"><span style="color:#000000;"><span
 style="font-weight:700;"><span style="font-style:normal;"><span
 style="text-decoration:none;">2K
 Challenge</span></span></span></span></span></span><span
 style="font-size:11pt;"><span style="font-family:Arial,
 sans-serif;"><span style="color:#000000;"><span
 style="font-weight:400;"><span style="font-style:normal;"><span
 style="text-decoration:none;"> est fait pour toi
 !</span></span></span></span></span></span></p>
 
 <p><span
 style="font-size:11pt;"><span style="font-family:Arial,
 sans-serif;"><span style="color:#000000;"><span
 style="font-weight:400;"><span style="font-style:normal;"><span
 style="text-decoration:none;">🎯
 </span></span></span></span></span></span><span
 style="font-size:11pt;"><span style="font-family:Arial,
 sans-serif;"><span style="color:#000000;"><span
 style="font-weight:700;"><span style="font-style:normal;"><span
 style="text-decoration:none;">Pourquoi venir
 ?</span></span></span></span></span></span><br>
 <span
 style="font-size:11pt;"><span style="font-family:Arial,
 sans-serif;"><span style="color:#000000;"><span
 style="font-weight:400;"><span style="font-style:normal;"><span
 style="text-decoration:none;">✅ Te situer sur 2
 km</span></span></span></span></span></span><br>
 <span
 style="font-size:11pt;"><span style="font-family:Arial,
 sans-serif;"><span style="color:#000000;"><span
 style="font-weight:400;"><span style="font-style:normal;"><span
 style="text-decoration:none;">✅ Repousser tes
 limites</span></span></span></span></span></span><br>
 <span
 style="font-size:11pt;"><span style="font-family:Arial,
 sans-serif;"><span style="color:#000000;"><span
 style="font-weight:400;"><span style="font-style:normal;"><span
 style="text-decoration:none;">✅ Courir avec d’autres
 passionne(e)s</span></span></span></span></span></span><br>
 <span
 style="font-size:11pt;"><span style="font-family:Arial,
 sans-serif;"><span style="color:#000000;"><span
 style="font-weight:400;"><span style="font-style:normal;"><span
 style="text-decoration:none;">✅ Decouvrir l’ambiance d’un club
 athle</span></span></span></span></span></span></p>
 
 <p><span
 style="font-size:11pt;"><span style="font-family:Arial,
 sans-serif;"><span style="color:#000000;"><span
 style="font-weight:400;"><span style="font-style:normal;"><span
 style="text-decoration:none;">📅 Gratuit et ouvert des 15
 ans</span></span></span></span></span></span></p>
 
 <p><span
 style="font-size:11pt;"><span style="font-family:Arial,
 sans-serif;"><span style="color:#000000;"><span
 style="font-weight:400;"><span style="font-style:normal;"><span
 style="text-decoration:none;">❓
 </span></span></span></span></span></span><span
 style="font-size:11pt;"><span style="font-family:Arial,
 sans-serif;"><span style="color:#000000;"><span
 style="font-weight:700;"><span style="font-style:normal;"><span
 style="text-decoration:none;">Vous hesitez a prendre une licence
 ?</span></span></span></span></span></span><br>
 <span
 style="font-size:11pt;"><span style="font-family:Arial,
 sans-serif;"><span style="color:#000000;"><span
 style="font-weight:400;"><span style="font-style:normal;"><span
 style="text-decoration:none;">Cet evenement sera l’occasion ideale
 de </span></span></span></span></span></span><span
 style="font-size:11pt;"><span style="font-family:Arial,
 sans-serif;"><span style="color:#000000;"><span
 style="font-weight:700;"><span style="font-style:normal;"><span
 style="text-decoration:none;">poser vos questions et d'echanger avec
 les entraineurs</span></span></span></span></span></span><span
 style="font-size:11pt;"><span style="font-family:Arial,
 sans-serif;"><span style="color:#000000;"><span
 style="font-weight:400;"><span style="font-style:normal;"><span
 style="text-decoration:none;">. Nous esperons vous retrouver
 </span></span></span></span></span></span><span
 style="font-size:11pt;"><span style="font-family:Arial,
 sans-serif;"><span style="color:#000000;"><span
 style="font-weight:700;"><span style="font-style:normal;"><span
 style="text-decoration:none;">nombreux pour cette 1ere
 edition</span></span></span></span></span></span><span
 style="font-size:11pt;"><span style="font-family:Arial,
 sans-serif;"><span style="color:#000000;"><span
 style="font-weight:400;"><span style="font-style:normal;"><span
 style="text-decoration:none;"> et partager ensemble un beau moment
 autour de l’athletisme
 !</span></span></span></span></span></span></p>
 
 <p><span
 style="font-size:11pt;"><span style="font-family:Arial,
 sans-serif;"><span style="color:#000000;"><span
 style="font-weight:400;"><span style="font-style:normal;"><span
 style="text-decoration:none;">A tres bientot sur la piste
 🏟️</span></span></span></span></span></span></p>
URL;VALUE=URI:https://www.enl44athletisme.com/evenements/2026/06/04/2k-challenge-2439046
END:VEVENT
END:VCALENDAR
