BEGIN:VCALENDAR
VERSION:2.0
PRODID:-//hacksw/handcal//NONSGML v1.0//EN
BEGIN:VEVENT
SUMMARY:Kinderday
UID:eb9d09b6-b52a-4f29-a24c-0850abc06e41
DTSTART:20260613T073000Z
DTEND:20260613T100000Z
LOCATION:Stade Colette Besson 22 Boulevard Jules Verne 44130 Blain
CATEGORIES:Sportif
STATUS:
DESCRIPTION:<p><span style="font-size:11pt;"><span
 style="font-family:Arial, sans-serif;"><span
 style="color:#000000;"><span style="font-weight:700;"><span
 style="font-style:normal;"><span style="text-decoration:none;">🎉
 Portes ouvertes – Kinder Joy of Moving Athletics
 Day</span></span></span></span></span></span></p>
 
 <p><span
 style="font-size:11pt;"><span style="font-family:Arial,
 sans-serif;"><span style="color:#000000;"><span
 style="font-weight:400;"><span style="font-style:normal;"><span
 style="text-decoration:none;">Bonjour a tous
 👋</span></span></span></span></span></span></p>
 
 <p><span
 style="font-size:11pt;"><span style="font-family:Arial,
 sans-serif;"><span style="color:#000000;"><span
 style="font-weight:400;"><span style="font-style:normal;"><span
 style="text-decoration:none;">Comme chaque annee,
 l’</span></span></span></span></span></span><span
 style="font-size:11pt;"><span style="font-family:Arial,
 sans-serif;"><span style="color:#000000;"><span
 style="font-weight:700;"><span style="font-style:normal;"><span
 style="text-decoration:none;">ENL44</span></span></span></span></span></span><span
 style="font-size:11pt;"><span style="font-family:Arial,
 sans-serif;"><span style="color:#000000;"><span
 style="font-weight:400;"><span style="font-style:normal;"><span
 style="text-decoration:none;"> ouvre ses portes a l’occasion du
 </span></span></span></span></span></span><span
 style="font-size:11pt;"><span style="font-family:Arial,
 sans-serif;"><span style="color:#000000;"><span
 style="font-weight:700;"><span style="font-style:normal;"><span
 style="text-decoration:none;">Kinder Joy of Moving Athletics
 Day</span></span></span></span></span></span><span
 style="font-size:11pt;"><span style="font-family:Arial,
 sans-serif;"><span style="color:#000000;"><span
 style="font-weight:400;"><span style="font-style:normal;"><span
 style="text-decoration:none;">
 !</span></span></span></span></span></span></p>
 
 <p><span
 style="font-size:11pt;"><span style="font-family:Arial,
 sans-serif;"><span style="color:#000000;"><span
 style="font-weight:400;"><span style="font-style:normal;"><span
 style="text-decoration:none;">📅
 </span></span></span></span></span></span><span
 style="font-size:11pt;"><span style="font-family:Arial,
 sans-serif;"><span style="color:#000000;"><span
 style="font-weight:700;"><span style="font-style:normal;"><span
 style="text-decoration:none;">Samedi 13 juin
 2026</span></span></span></span></span></span><br>
 <span
 style="font-size:11pt;"><span style="font-family:Arial,
 sans-serif;"><span style="color:#000000;"><span
 style="font-weight:400;"><span style="font-style:normal;"><span
 style="text-decoration:none;">🕘
 </span></span></span></span></span></span><span
 style="font-size:11pt;"><span style="font-family:Arial,
 sans-serif;"><span style="color:#000000;"><span
 style="font-weight:700;"><span style="font-style:normal;"><span
 style="text-decoration:none;">De 9h30 a
 12h</span></span></span></span></span></span></p>
 
 <p><span
 style="font-size:11pt;"><span style="font-family:Arial,
 sans-serif;"><span style="color:#000000;"><span
 style="font-weight:400;"><span style="font-style:normal;"><span
 style="text-decoration:none;">Cette
 </span></span></span></span></span></span><span
 style="font-size:11pt;"><span style="font-family:Arial,
 sans-serif;"><span style="color:#000000;"><span
 style="font-weight:700;"><span style="font-style:normal;"><span
 style="text-decoration:none;">demi-journee
 decouverte</span></span></span></span></span></span><span
 style="font-size:11pt;"><span style="font-family:Arial,
 sans-serif;"><span style="color:#000000;"><span
 style="font-weight:400;"><span style="font-style:normal;"><span
 style="text-decoration:none;"> est destinee aux
 </span></span></span></span></span></span><span
 style="font-size:11pt;"><span style="font-family:Arial,
 sans-serif;"><span style="color:#000000;"><span
 style="font-weight:700;"><span style="font-style:normal;"><span
 style="text-decoration:none;">jeunes de 7 a 14
 ans</span></span></span></span></span></span><span
 style="font-size:11pt;"><span style="font-family:Arial,
 sans-serif;"><span style="color:#000000;"><span
 style="font-weight:400;"><span style="font-style:normal;"><span
 style="text-decoration:none;"> qui souhaitent s’initier a
 l’athletisme et decouvrir le club
 🏃‍♀️🏃‍♂️</span></span></span></span></span></span></p>
 
 <p><span
 style="font-size:11pt;"><span style="font-family:Arial,
 sans-serif;"><span style="color:#000000;"><span
 style="font-weight:700;"><span style="font-style:normal;"><span
 style="text-decoration:none;">Au programme
 :</span></span></span></span></span></span></p>
 
 <p><span
 style="font-size:11pt;"><span style="font-family:Arial,
 sans-serif;"><span style="color:#000000;"><span
 style="font-weight:400;"><span style="font-style:normal;"><span
 style="text-decoration:none;">🔹
 </span></span></span></span></span></span><span
 style="font-size:11pt;"><span style="font-family:Arial,
 sans-serif;"><span style="color:#000000;"><span
 style="font-weight:700;"><span style="font-style:normal;"><span
 style="text-decoration:none;">Initiation aux differentes
 disciplines</span></span></span></span></span></span><span
 style="font-size:11pt;"><span style="font-family:Arial,
 sans-serif;"><span style="color:#000000;"><span
 style="font-weight:400;"><span style="font-style:normal;"><span
 style="text-decoration:none;"> : courses, sauts et
 lancers</span></span></span></span></span></span><br>
 <span
 style="font-size:11pt;"><span style="font-family:Arial,
 sans-serif;"><span style="color:#000000;"><span
 style="font-weight:400;"><span style="font-style:normal;"><span
 style="text-decoration:none;">🔹
 </span></span></span></span></span></span><span
 style="font-size:11pt;"><span style="font-family:Arial,
 sans-serif;"><span style="color:#000000;"><span
 style="font-weight:700;"><span style="font-style:normal;"><span
 style="text-decoration:none;">Immersion dans un entrainement
 d’athletisme</span></span></span></span></span></span><br>
 <span
 style="font-size:11pt;"><span style="font-family:Arial,
 sans-serif;"><span style="color:#000000;"><span
 style="font-weight:400;"><span style="font-style:normal;"><span
 style="text-decoration:none;">🔹
 </span></span></span></span></span></span><span
 style="font-size:11pt;"><span style="font-family:Arial,
 sans-serif;"><span style="color:#000000;"><span
 style="font-weight:700;"><span style="font-style:normal;"><span
 style="text-decoration:none;">Jeux et ateliers
 sportifs</span></span></span></span></span></span><span
 style="font-size:11pt;"><span style="font-family:Arial,
 sans-serif;"><span style="color:#000000;"><span
 style="font-weight:400;"><span style="font-style:normal;"><span
 style="text-decoration:none;"> dans une ambiance conviviale
 🤝</span></span></span></span></span></span><br>
 <span
 style="font-size:11pt;"><span style="font-family:Arial,
 sans-serif;"><span style="color:#000000;"><span
 style="font-weight:400;"><span style="font-style:normal;"><span
 style="text-decoration:none;">🔹
 </span></span></span></span></span></span><span
 style="font-size:11pt;"><span style="font-family:Arial,
 sans-serif;"><span style="color:#000000;"><span
 style="font-weight:700;"><span style="font-style:normal;"><span
 style="text-decoration:none;">Rencontre avec les entraineurs et les
 jeunes du
 club</span></span></span></span></span></span></p>
 
 <p><span
 style="font-size:11pt;"><span style="font-family:Arial,
 sans-serif;"><span style="color:#000000;"><span
 style="font-weight:400;"><span style="font-style:normal;"><span
 style="text-decoration:none;">❓
 </span></span></span></span></span></span><span
 style="font-size:11pt;"><span style="font-family:Arial,
 sans-serif;"><span style="color:#000000;"><span
 style="font-weight:700;"><span style="font-style:normal;"><span
 style="text-decoration:none;">Vous hesitez a prendre une licence
 ?</span></span></span></span></span></span><br>
 <span
 style="font-size:11pt;"><span style="font-family:Arial,
 sans-serif;"><span style="color:#000000;"><span
 style="font-weight:400;"><span style="font-style:normal;"><span
 style="text-decoration:none;">Cette matinee sera l’occasion ideale
 de </span></span></span></span></span></span><span
 style="font-size:11pt;"><span style="font-family:Arial,
 sans-serif;"><span style="color:#000000;"><span
 style="font-weight:700;"><span style="font-style:normal;"><span
 style="text-decoration:none;">decouvrir les activites du club, poser
 vos questions et echanger avec les
 entraineurs</span></span></span></span></span></span><span
 style="font-size:11pt;"><span style="font-family:Arial,
 sans-serif;"><span style="color:#000000;"><span
 style="font-weight:400;"><span style="font-style:normal;"><span
 style="text-decoration:none;">.</span></span></span></span></span></span></p>
 
 <p><span
 style="font-size:11pt;"><span style="font-family:Arial,
 sans-serif;"><span style="color:#000000;"><span
 style="font-weight:400;"><span style="font-style:normal;"><span
 style="text-decoration:none;">Nous esperons vous retrouver
 </span></span></span></span></span></span><span
 style="font-size:11pt;"><span style="font-family:Arial,
 sans-serif;"><span style="color:#000000;"><span
 style="font-weight:700;"><span style="font-style:normal;"><span
 style="text-decoration:none;">nombreux pour cette nouvelle
 edition</span></span></span></span></span></span><span
 style="font-size:11pt;"><span style="font-family:Arial,
 sans-serif;"><span style="color:#000000;"><span
 style="font-weight:400;"><span style="font-style:normal;"><span
 style="text-decoration:none;"> et partager ensemble un beau moment
 autour de l’athletisme
 !</span></span></span></span></span></span></p>
 
 <p><span
 style="font-size:11pt;"><span style="font-family:Arial,
 sans-serif;"><span style="color:#000000;"><span
 style="font-weight:400;"><span style="font-style:normal;"><span
 style="text-decoration:none;">A tres bientot sur la piste
 🏟️</span></span></span></span></span></span></p>
 
 <p> </p>
URL;VALUE=URI:https://www.enl44athletisme.com/evenements/2026/06/13/kinderday-2439048
END:VEVENT
END:VCALENDAR
